BEGIN:VCALENDAR
VERSION:2.0
PRODID:-// - ECPv6.15.20//NONSGML v1.0//EN
CALSCALE:GREGORIAN
METHOD:PUBLISH
X-ORIGINAL-URL:https://w3pie.org
X-WR-CALDESC:Events for 
REFRESH-INTERVAL;VALUE=DURATION:PT1H
X-Robots-Tag:noindex
X-PUBLISHED-TTL:PT1H
BEGIN:VTIMEZONE
TZID:America/New_York
BEGIN:DAYLIGHT
TZOFFSETFROM:-0500
TZOFFSETTO:-0400
TZNAME:EDT
DTSTART:20240310T070000
END:DAYLIGHT
BEGIN:STANDARD
TZOFFSETFROM:-0400
TZOFFSETTO:-0500
TZNAME:EST
DTSTART:20241103T060000
END:STANDARD
BEGIN:DAYLIGHT
TZOFFSETFROM:-0500
TZOFFSETTO:-0400
TZNAME:EDT
DTSTART:20250309T070000
END:DAYLIGHT
BEGIN:STANDARD
TZOFFSETFROM:-0400
TZOFFSETTO:-0500
TZNAME:EST
DTSTART:20251102T060000
END:STANDARD
BEGIN:DAYLIGHT
TZOFFSETFROM:-0500
TZOFFSETTO:-0400
TZNAME:EDT
DTSTART:20260308T070000
END:DAYLIGHT
BEGIN:STANDARD
TZOFFSETFROM:-0400
TZOFFSETTO:-0500
TZNAME:EST
DTSTART:20261101T060000
END:STANDARD
END:VTIMEZONE
BEGIN:VEVENT
DTSTART;TZID=America/New_York:20250209T090000
DTEND;TZID=America/New_York:20250209T110000
DTSTAMP:20260421T041910
CREATED:20250208T002440Z
LAST-MODIFIED:20250208T002440Z
UID:2363-1739091600-1739098800@w3pie.org
SUMMARY:Radio Tech/Repair
DESCRIPTION:In the Museum annex with the purpose of bringing museum pieces to operational status.  Contact George to reserve one of the limited seats two weeks in advance.
URL:https://w3pie.org/index.php/event/radio-tech-repair/
LOCATION:PA
END:VEVENT
BEGIN:VEVENT
DTSTART;TZID=America/New_York:20250219T193000
DTEND;TZID=America/New_York:20250219T203000
DTSTAMP:20260421T041910
CREATED:20250207T234526Z
LAST-MODIFIED:20250208T000325Z
UID:2340-1739993400-1739997000@w3pie.org
SUMMARY:Ways and Means Meeting
DESCRIPTION:
URL:https://w3pie.org/index.php/event/ways-and-means-meeting/
LOCATION:PA
END:VEVENT
END:VCALENDAR